BEGIN:VCALENDAR
VERSION:2.0
CALSCALE:GREGORIAN
METHOD:PUBLISH
PRODID:-//GridMind//NONSGML GridCalendar 0.9.577 2013-12-03 17:08 +0100//E
 N
BEGIN:VEVENT
UID:realraum Grid Calendar-ba60f4c3f99b69e96569dcaa976cb7c3-1121@grical.re
 alraum.at
DTSTART:20180827T170000Z
DTEND:20180827T173000Z
CATEGORIES:pitch,vortrag,präsentation,ideenpräsentation
CLASS:PUBLIC
DESCRIPTION:   **Deutsch**\n\nDas Facebook und Google unsere privatesten D
 aten verkauft und verwertet ist hoffentlich jedem mitlerweile bekannt.\nEi
 gentlich ist das doch ein massiver Eingriff in die Privatsphäre.\nUnd ich
  glaube den meisten dämmert das!\n\nTrotzdem fällt es der Allgemeinheit 
 immer noch schwer diesen Netzwerken den Rücken zu zu kehren.\nDie Freunde
  sind einfach dort\, posten dort. Und auch die Nachrichten von Presseorgan
 en kann ich dort konsumieren.\n\nEine praktikable\, einfache und benutzerf
 reundliche Alternative: die fehlt! Oder?\nDiaspora\, Friendica und co sind
  anscheinend nicht interessant genug.\n\nWarum verlassen die Ratten nicht 
 das Schiff\, also kann es weiterfahren.\nWarum verlassen sie es nicht? Wei
 l ich meine Freunde vielleicht nicht mitnehmen kann?\n\n\nFragen über Fra
 gen.\n\nIch würde gerne meine Antworten mit euch teilen.\n\n\n\n   **Engl
 ish**\n\nThe fact that Facebook and Google collect and sell our most priva
 te data is common knowledge now.\nThis is a massive invasion of our privac
 y\,\nand I believe\, most of us are realizing this now.\n\nDespite of that
  it's seems to be alsmost impossible to leave Facebook for most of us.\nOu
 r friends are there\, posting there. And I can also consume the news outle
 ts most recent/popular post.\n\nA practical\, easy to use and simple alter
 native seems missing. Doesn't it?\nDiaspora\, Friendica and co don't seem 
 to be interesting enough.\n\nThe rats aren`t leaving the ship - so the shi
 p is still sailing...\nMaybe they aren't leaving\, because leaving means a
 lso leaving your friends behind.\n\n\nSo many questions!\n\nI'd like to sh
 are my answers with you.\n
DTSTAMP:20180824T132521
GEO:47.0655801\;15.4505528
LOCATION:Hauptraum LoTHR realraum\, Brockmanngasse 15\, 8010 Graz
SUMMARY:beating Facebook - social networking neu gedacht
URL:http://grical.realraum.at/e/show/1121/
END:VEVENT
END:VCALENDAR
