BEGIN:VCALENDAR
VERSION:2.0
CALSCALE:GREGORIAN
METHOD:PUBLISH
PRODID:-//GridMind//NONSGML GridCalendar 0.9.577 2013-12-03 17:08 +0100//E
 N
BEGIN:VEVENT
UID:realraum Grid Calendar-ba60f4c3f99b69e96569dcaa976cb7c3-1441@grical.re
 alraum.at
DTSTART:20201127T170000Z
DTEND:20201127T220000Z
CATEGORIES:realraum,aogv
CLASS:PUBLIC
DESCRIPTION:Außerordentliche Generalversammlung.\n\nFür Mitglieder\n\nNu
 r Online - Keine geheimen Abstimmungen möglich.
DTSTAMP:20201116T203213
GEO:47.0655257328\;15.450553894
LOCATION:online
SUMMARY:außerordentliche Generalversammlung
URL:http://grical.realraum.at/e/show/1441/
END:VEVENT
END:VCALENDAR
