BEGIN:VCALENDAR
VERSION:2.0
CALSCALE:GREGORIAN
METHOD:PUBLISH
PRODID:-//GridMind//NONSGML GridCalendar 0.9.577 2013-12-03 17:08 +0100//E
 N
BEGIN:VEVENT
UID:realraum Grid Calendar-ba60f4c3f99b69e96569dcaa976cb7c3-1523@grical.re
 alraum.at
DTSTART:20230401T160000Z
DTEND:20230402T040000Z
CATEGORIES:realraum,party,birthday
CLASS:PUBLIC
DESCRIPTION:Wir werden 0x10! Feiert mit uns 16 Jahre realraum!\n\n---\n\nW
 e're turning 0x10! Celebrate 16 years realraum with us!\n\n---\n\n you sho
 uld come by!\n\n come to the party ... we mean it!\n\n expect DJ Music\, F
 ood\, Tschunk\, Games and more\n\n
DTSTAMP:20230320T151502
GEO:47.0655508241\;15.450553894
LOCATION:Brockmanngasse 15\, 8010 Graz
SUMMARY:realraum 16 Jahre Feier
URL:http://grical.realraum.at/e/show/1523/
END:VEVENT
END:VCALENDAR
