BEGIN:VCALENDAR
VERSION:2.0
CALSCALE:GREGORIAN
METHOD:PUBLISH
PRODID:-//GridMind//NONSGML GridCalendar 0.9.577 2013-12-03 17:08 +0100//E
 N
BEGIN:VEVENT
UID:realraum Grid Calendar-ba60f4c3f99b69e96569dcaa976cb7c3-1620@grical.re
 alraum.at
DTSTART;VALUE=DATE:20240302
CATEGORIES:ccc,tagdesoffenenhackerspaces
CLASS:PUBLIC
DTSTAMP:20231010T101015
GEO:47.065554\;15.45043
SUMMARY:Tag der  offenen Hackspacess 2024
URL:http://grical.realraum.at/e/show/1620/
END:VEVENT
END:VCALENDAR
