BEGIN:VCALENDAR
VERSION:2.0
CALSCALE:GREGORIAN
METHOD:PUBLISH
PRODID:-//GridMind//NONSGML GridCalendar 0.9.577 2013-12-03 17:08 +0100//E
 N
BEGIN:VEVENT
UID:realraum Grid Calendar-ba60f4c3f99b69e96569dcaa976cb7c3-1810@grical.re
 alraum.at
DTSTART:20260514T123000
DTEND:20260514T180000
CLASS:PUBLIC
DESCRIPTION:Fortsetzung: Gesprächsabend - gemeinsamer realraum\n\nWir wol
 len ein Selbstbild erarbeiten. Treffen ab 12:30 @spektral\, damit wir pün
 ktlich um 13:00 mit dem Programm anfangen können.\nEs wird essen geben.\n
 Details folgen noch.\n
DTSTAMP:20260419T110632
LOCATION:Spektral / Lendkai 45
SUMMARY:[intern] Selbstbild - realraum
URL:http://grical.realraum.at/e/show/1810/
END:VEVENT
END:VCALENDAR
