BEGIN:VCALENDAR
VERSION:2.0
CALSCALE:GREGORIAN
METHOD:PUBLISH
PRODID:-//GridMind//NONSGML GridCalendar 0.9.577 2013-12-03 17:08 +0100//E
 N
BEGIN:VEVENT
UID:realraum Grid Calendar-ba60f4c3f99b69e96569dcaa976cb7c3-696@grical.rea
 lraum.at
DTSTART:20151002T210000Z
DTEND:20151003T030000Z
CATEGORIES:workshop,ctf
CLASS:PUBLIC
DESCRIPTION:CTF?\n-------- \n\nCapture the Flag (CTF) is a special kind of
  information security competitions.\n\nD-CTF?\n-------- \n\nD-CTF 2015 is 
 a jeopardy style capture-the-flag competition that will be held online. \n
 \n\nD-CTF @ realraum?\n-------------------\n\nbrain-destroying binaries\, 
 super-sick shellcode shenanigans\, and challenging fun\n\n(probably not op
 en 36 hours\, so please check `realraum's SpaceAPI <http://spaceapi-stats.
 n39.eu/#realraum>`_ and/or ask `on IRC <irc://irc.oftc.net:6667/#realraum>
 `_\, or contact `Stefan <http://twitter.com/stefan2904>`_).
DTSTAMP:20151002T174311
GEO:47.0656044166\;15.4505190253
LOCATION:realraum\, Brockmanngasse 15\, A-8010 Graz
SUMMARY:D-CTF
URL:http://grical.realraum.at/e/show/696/
END:VEVENT
END:VCALENDAR
