BEGIN:VCALENDAR
VERSION:2.0
METHOD:PUBLISH
PRODID:-//GridMind//NONSGML GridCalendar 0.9.577 2013-12-03 17:08 +0100//E
 N
BEGIN:VEVENT
UID:realraum Grid Calendar-ba60f4c3f99b69e96569dcaa976cb7c3-1512@grical.re
 alraum.at
DTSTART:20230508T180000Z
DTEND:20230508T210000Z
CATEGORIES:r3,treffen,lothr
CLASS:PUBLIC
DESCRIPTION:Achtung\, UTC 18h --> \n19h im Winter nach Europe/Vienna Zeitt
 one\n20h im Sommer nach Europe/Vienna Zeittone
DTSTAMP:20230111T163342
GEO:47.0655764023\;15.4505753517
LOCATION:Brockmanngasse 15
SUMMARY:realraum Mitgliedertreffen (UTC Zeitzone)
URL:http://grical.realraum.at/e/show/1512/
END:VEVENT
BEGIN:VEVENT
UID:realraum Grid Calendar-ba60f4c3f99b69e96569dcaa976cb7c3-1511@grical.re
 alraum.at
DTSTART:20230417T180000Z
DTEND:20230417T210000Z
CATEGORIES:r3,treffen,lothr
CLASS:PUBLIC
DESCRIPTION:Achtung\, UTC 18h --> \n19h im Winter nach Europe/Vienna Zeitt
 one\n20h im Sommer nach Europe/Vienna Zeittone\n\nVerschoben auf Montag na
 ch Ostermontag
DTSTAMP:20230326T234054
GEO:47.0655764023\;15.4505753517
LOCATION:Brockmanngasse 15
SUMMARY:realraum Mitgliedertreffen (UTC Zeitzone)
URL:http://grical.realraum.at/e/show/1511/
END:VEVENT
BEGIN:VEVENT
UID:realraum Grid Calendar-ba60f4c3f99b69e96569dcaa976cb7c3-1513@grical.re
 alraum.at
DTSTART:20230612T180000Z
DTEND:20230612T210000Z
CATEGORIES:r3,treffen,lothr
CLASS:PUBLIC
DESCRIPTION:Achtung\, UTC 18h --> \n19h im Winter nach Europe/Vienna Zeitt
 one\n20h im Sommer nach Europe/Vienna Zeittone
DTSTAMP:20230111T163342
GEO:47.0655764023\;15.4505753517
LOCATION:Brockmanngasse 15
SUMMARY:realraum Mitgliedertreffen (UTC Zeitzone)
URL:http://grical.realraum.at/e/show/1513/
END:VEVENT
BEGIN:VEVENT
UID:realraum Grid Calendar-ba60f4c3f99b69e96569dcaa976cb7c3-1514@grical.re
 alraum.at
DTSTART:20230710T180000Z
DTEND:20230710T210000Z
CATEGORIES:r3,treffen,lothr
CLASS:PUBLIC
DESCRIPTION:Achtung\, UTC 18h --> \n19h im Winter nach Europe/Vienna Zeitt
 one\n20h im Sommer nach Europe/Vienna Zeittone
DTSTAMP:20230111T163342
GEO:47.0655764023\;15.4505753517
LOCATION:Brockmanngasse 15
SUMMARY:realraum Mitgliedertreffen (UTC Zeitzone)
URL:http://grical.realraum.at/e/show/1514/
END:VEVENT
BEGIN:VEVENT
UID:realraum Grid Calendar-ba60f4c3f99b69e96569dcaa976cb7c3-1515@grical.re
 alraum.at
DTSTART:20230731T193000Z
DTEND:20230731T210000Z
CATEGORIES:r3,treffen,lothr
CLASS:PUBLIC
DESCRIPTION:nach der GV
DTSTAMP:20230723T021233
GEO:47.0655764023\;15.4505753517
LOCATION:Brockmanngasse 15
SUMMARY:realraum Mitgliedertreffen (UTC Zeitzone)
URL:http://grical.realraum.at/e/show/1515/
END:VEVENT
BEGIN:VEVENT
UID:realraum Grid Calendar-ba60f4c3f99b69e96569dcaa976cb7c3-1516@grical.re
 alraum.at
DTSTART:20230911T180000Z
DTEND:20230911T210000Z
CATEGORIES:r3,treffen,lothr
CLASS:PUBLIC
DESCRIPTION:Achtung\, UTC 18h --> \n19h im Winter nach Europe/Vienna Zeitt
 one\n20h im Sommer nach Europe/Vienna Zeittone
DTSTAMP:20230111T163342
GEO:47.0655764023\;15.4505753517
LOCATION:Brockmanngasse 15
SUMMARY:realraum Mitgliedertreffen (UTC Zeitzone)
URL:http://grical.realraum.at/e/show/1516/
END:VEVENT
BEGIN:VEVENT
UID:realraum Grid Calendar-ba60f4c3f99b69e96569dcaa976cb7c3-1517@grical.re
 alraum.at
DTSTART:20231009T180000Z
DTEND:20231009T210000Z
CATEGORIES:r3,treffen,lothr
CLASS:PUBLIC
DESCRIPTION:Achtung\, UTC 18h --> \n19h im Winter nach Europe/Vienna Zeitt
 one\n20h im Sommer nach Europe/Vienna Zeittone
DTSTAMP:20230111T163342
GEO:47.0655764023\;15.4505753517
LOCATION:Brockmanngasse 15
SUMMARY:realraum Mitgliedertreffen (UTC Zeitzone)
URL:http://grical.realraum.at/e/show/1517/
END:VEVENT
BEGIN:VEVENT
UID:realraum Grid Calendar-ba60f4c3f99b69e96569dcaa976cb7c3-1518@grical.re
 alraum.at
DTSTART:20231113T180000Z
DTEND:20231113T210000Z
CATEGORIES:r3,treffen,lothr
CLASS:PUBLIC
DESCRIPTION:Achtung\, UTC 18h --> \n19h im Winter nach Europe/Vienna Zeitt
 one\n20h im Sommer nach Europe/Vienna Zeittone
DTSTAMP:20230111T163342
GEO:47.0655764023\;15.4505753517
LOCATION:Brockmanngasse 15
SUMMARY:realraum Mitgliedertreffen (UTC Zeitzone)
URL:http://grical.realraum.at/e/show/1518/
END:VEVENT
BEGIN:VEVENT
UID:realraum Grid Calendar-ba60f4c3f99b69e96569dcaa976cb7c3-1519@grical.re
 alraum.at
DTSTART:20231211T180000Z
DTEND:20231211T210000Z
CATEGORIES:r3,treffen,lothr
CLASS:PUBLIC
DESCRIPTION:Achtung\, UTC 18h --> \n19h im Winter nach Europe/Vienna Zeitt
 one\n20h im Sommer nach Europe/Vienna Zeittone
DTSTAMP:20230111T163342
GEO:47.0655764023\;15.4505753517
LOCATION:Brockmanngasse 15
SUMMARY:realraum Mitgliedertreffen (UTC Zeitzone)
URL:http://grical.realraum.at/e/show/1519/
END:VEVENT
BEGIN:VEVENT
UID:realraum Grid Calendar-ba60f4c3f99b69e96569dcaa976cb7c3-1520@grical.re
 alraum.at
DTSTART:20240108T180000Z
DTEND:20240108T210000Z
CATEGORIES:r3,treffen,lothr
CLASS:PUBLIC
DESCRIPTION:Achtung\, UTC 18h --> \n19h im Winter nach Europe/Vienna Zeitt
 one\n20h im Sommer nach Europe/Vienna Zeittone
DTSTAMP:20230111T163342
GEO:47.0655764023\;15.4505753517
LOCATION:Brockmanngasse 15
SUMMARY:realraum Mitgliedertreffen (UTC Zeitzone)
URL:http://grical.realraum.at/e/show/1520/
END:VEVENT
BEGIN:VEVENT
UID:realraum Grid Calendar-ba60f4c3f99b69e96569dcaa976cb7c3-1521@grical.re
 alraum.at
DTSTART:20240212T180000Z
DTEND:20240212T210000Z
CATEGORIES:r3,treffen,lothr
CLASS:PUBLIC
DESCRIPTION:Achtung\, UTC 18h --> \n19h im Winter nach Europe/Vienna Zeitt
 one\n20h im Sommer nach Europe/Vienna Zeittone
DTSTAMP:20230111T163342
GEO:47.0655764023\;15.4505753517
LOCATION:Brockmanngasse 15
SUMMARY:realraum Mitgliedertreffen (UTC Zeitzone)
URL:http://grical.realraum.at/e/show/1521/
END:VEVENT
BEGIN:VEVENT
UID:realraum Grid Calendar-ba60f4c3f99b69e96569dcaa976cb7c3-1522@grical.re
 alraum.at
DTSTART:20240311T180000Z
DTEND:20240311T210000Z
CATEGORIES:r3,treffen,lothr
CLASS:PUBLIC
DESCRIPTION:Achtung\, UTC 18h --> \n19h im Winter nach Europe/Vienna Zeitt
 one\n20h im Sommer nach Europe/Vienna Zeittone
DTSTAMP:20230111T163342
GEO:47.0655764023\;15.4505753517
LOCATION:Brockmanngasse 15
SUMMARY:realraum Mitgliedertreffen (UTC Zeitzone)
URL:http://grical.realraum.at/e/show/1522/
END:VEVENT
END:VCALENDAR
