BEGIN:VCALENDAR
VERSION:2.0
METHOD:PUBLISH
PRODID:-//GridMind//NONSGML GridCalendar 0.9.577 2013-12-03 17:08 +0100//E
 N
BEGIN:VEVENT
UID:realraum Grid Calendar-ba60f4c3f99b69e96569dcaa976cb7c3-517@grical.rea
 lraum.at
DTSTART:20150223T190000Z
CATEGORIES:realraum,hackaton,monthly,infrastructure,basteln
CLASS:PUBLIC
DESCRIPTION:Monatliches Treffen zum gemeinsamen Basteln an der realraum In
 frastruktur\, damit endlich was weiter geht.\nAll die Dinge auf der ToDo-L
 iste\, die man zusammen gleich amal erledigen könnt.\nAll das Zeug\, dass
  "ma eh schnell" erledigen kann bzw "hamma glei" :-)\n\nIdeen:\n\n- Auslag
 e\n- Monitore im Keller\n- Vorhang\n- http://xkcd.com/1473/ für die realr
 aum webseite\n- realraum start page\n- hledger for realraum\n\nKonkrete TO
 DOs:\n\n- brockmanngassetodo_\n- offenebaustellen_\n\nFür jeden offen\, w
 ie alle Treffen und Veranstaltungen des realraum.\n\n\n.. _offenebaustelle
 n: http://realraum.at/wiki/doku.php?id=intern:offenebaustellen\n.. _brockm
 anngassetodo: http://realraum.at/wiki/doku.php?id=brockmanngassetodo
DTSTAMP:20150526T003616
GEO:47.0655764023\;15.4505753517
LOCATION:Brockmanngasse 15\, 8010 Graz
SUMMARY:Ahhh\, das hamma glei - Treffen
URL:http://grical.realraum.at/e/show/517/
END:VEVENT
BEGIN:VEVENT
UID:realraum Grid Calendar-ba60f4c3f99b69e96569dcaa976cb7c3-516@grical.rea
 lraum.at
DTSTART:20150126T190000Z
CATEGORIES:realraum,hackaton,monthly,infrastructure,basteln
CLASS:PUBLIC
DESCRIPTION:Monatliches Treffen zum gemeinsamen Basteln an der realraum In
 frastruktur\, damit endlich was weiter geht.\nAll die Dinge auf der ToDo-L
 iste\, die man zusammen gleich amal erledigen könnt.\nAll das Zeug\, dass
  "ma eh schnell" erledigen kann bzw "hamma glei" :-)\n\nIdeen:\n\n- Auslag
 e\n- Monitore im Keller\n- Vorhang\n- http://xkcd.com/1473/ für die realr
 aum webseite\n- realraum start page\n- hledger for realraum\n\nKonkrete TO
 DOs:\n\n- brockmanngassetodo_\n- offenebaustellen_\n\nFür jeden offen\, w
 ie alle Treffen und Veranstaltungen des realraum.\n\n\n.. _offenebaustelle
 n: http://realraum.at/wiki/doku.php?id=intern:offenebaustellen\n.. _brockm
 anngassetodo: http://realraum.at/wiki/doku.php?id=brockmanngassetodo
DTSTAMP:20150526T003616
GEO:47.0655764023\;15.4505753517
LOCATION:Brockmanngasse 15\, 8010 Graz
SUMMARY:Ahhh\, das hamma glei - Treffen
URL:http://grical.realraum.at/e/show/516/
END:VEVENT
BEGIN:VEVENT
UID:realraum Grid Calendar-ba60f4c3f99b69e96569dcaa976cb7c3-519@grical.rea
 lraum.at
DTSTART:20150427T180000Z
CATEGORIES:realraum,hackaton,monthly,infrastructure,basteln
CLASS:PUBLIC
DESCRIPTION:Monatliches Treffen zum gemeinsamen Basteln an der realraum In
 frastruktur\, damit endlich was weiter geht.\nAll die Dinge auf der ToDo-L
 iste\, die man zusammen gleich amal erledigen könnt.\nAll das Zeug\, dass
  "ma eh schnell" erledigen kann bzw "hamma glei" :-)\n\nIdeen:\n\n- Auslag
 e\n- Monitore im Keller\n- Vorhang\n- http://xkcd.com/1473/ für die realr
 aum webseite\n- realraum start page\n- hledger for realraum\n\nKonkrete TO
 DOs:\n\n- brockmanngassetodo_\n- offenebaustellen_\n\nFür jeden offen\, w
 ie alle Treffen und Veranstaltungen des realraum.\n\n\n.. _offenebaustelle
 n: http://realraum.at/wiki/doku.php?id=intern:offenebaustellen\n.. _brockm
 anngassetodo: http://realraum.at/wiki/doku.php?id=brockmanngassetodo
DTSTAMP:20150526T003616
GEO:47.0655764023\;15.4505753517
LOCATION:Brockmanngasse 15\, 8010 Graz
SUMMARY:Ahhh\, das hamma glei - Treffen
URL:http://grical.realraum.at/e/show/519/
END:VEVENT
BEGIN:VEVENT
UID:realraum Grid Calendar-ba60f4c3f99b69e96569dcaa976cb7c3-520@grical.rea
 lraum.at
DTSTART:20150525T180000Z
CATEGORIES:realraum,hackaton,monthly,infrastructure,basteln
CLASS:PUBLIC
DESCRIPTION:Monatliches Treffen zum gemeinsamen Basteln an der realraum In
 frastruktur\, damit endlich was weiter geht.\nAll die Dinge auf der ToDo-L
 iste\, die man zusammen gleich amal erledigen könnt.\nAll das Zeug\, dass
  "ma eh schnell" erledigen kann bzw "hamma glei" :-)\n\nIdeen:\n\n- Auslag
 e\n- Monitore im Keller\n- Vorhang\n- http://xkcd.com/1473/ für die realr
 aum webseite\n- realraum start page\n- hledger for realraum\n\nKonkrete TO
 DOs:\n\n- brockmanngassetodo_\n- offenebaustellen_\n\nFür jeden offen\, w
 ie alle Treffen und Veranstaltungen des realraum.\n\n\n.. _offenebaustelle
 n: http://realraum.at/wiki/doku.php?id=intern:offenebaustellen\n.. _brockm
 anngassetodo: http://realraum.at/wiki/doku.php?id=brockmanngassetodo
DTSTAMP:20150526T003616
GEO:47.0655764023\;15.4505753517
LOCATION:Brockmanngasse 15\, 8010 Graz
SUMMARY:Ahhh\, das hamma glei - Treffen
URL:http://grical.realraum.at/e/show/520/
END:VEVENT
BEGIN:VEVENT
UID:realraum Grid Calendar-ba60f4c3f99b69e96569dcaa976cb7c3-522@grical.rea
 lraum.at
DTSTART:20150727T180000Z
CATEGORIES:realraum,hackaton,monthly,infrastructure,basteln
CLASS:PUBLIC
DESCRIPTION:Monatliches Treffen zum gemeinsamen Basteln an der realraum In
 frastruktur\, damit endlich was weiter geht.\nAll die Dinge auf der ToDo-L
 iste\, die man zusammen gleich amal erledigen könnt.\nAll das Zeug\, dass
  "ma eh schnell" erledigen kann bzw "hamma glei" :-)\n\nIdeen:\n\n- Auslag
 e\n- Monitore im Keller\n- Vorhang\n- http://xkcd.com/1473/ für die realr
 aum webseite\n- realraum start page\n- hledger for realraum\n\nKonkrete TO
 DOs:\n\n- brockmanngassetodo_\n- offenebaustellen_\n\nFür jeden offen\, w
 ie alle Treffen und Veranstaltungen des realraum.\n\n\n.. _offenebaustelle
 n: http://realraum.at/wiki/doku.php?id=intern:offenebaustellen\n.. _brockm
 anngassetodo: http://realraum.at/wiki/doku.php?id=brockmanngassetodo
DTSTAMP:20150526T003616
GEO:47.0655764023\;15.4505753517
LOCATION:Brockmanngasse 15\, 8010 Graz
SUMMARY:Ahhh\, das hamma glei - Treffen
URL:http://grical.realraum.at/e/show/522/
END:VEVENT
BEGIN:VEVENT
UID:realraum Grid Calendar-ba60f4c3f99b69e96569dcaa976cb7c3-525@grical.rea
 lraum.at
DTSTART:20151026T190000Z
CATEGORIES:realraum,hackaton,monthly,infrastructure,basteln
CLASS:PUBLIC
DESCRIPTION:Monatliches Treffen zum gemeinsamen Basteln an der realraum In
 frastruktur\, damit endlich was weiter geht.\nAll die Dinge auf der ToDo-L
 iste\, die man zusammen gleich amal erledigen könnt.\nAll das Zeug\, dass
  "ma eh schnell" erledigen kann bzw "hamma glei" :-)\n\nIdeen:\n\n- Auslag
 e\n- Monitore im Keller\n- Vorhang\n- http://xkcd.com/1473/ für die realr
 aum webseite\n- realraum start page\n- hledger for realraum\n\nKonkrete TO
 DOs:\n\n- brockmanngassetodo_\n- offenebaustellen_\n\nFür jeden offen\, w
 ie alle Treffen und Veranstaltungen des realraum.\n\n\n.. _offenebaustelle
 n: http://realraum.at/wiki/doku.php?id=intern:offenebaustellen\n.. _brockm
 anngassetodo: http://realraum.at/wiki/doku.php?id=brockmanngassetodo
DTSTAMP:20150526T003616
GEO:47.0655764023\;15.4505753517
LOCATION:Brockmanngasse 15\, 8010 Graz
SUMMARY:Ahhh\, das hamma glei - Treffen
URL:http://grical.realraum.at/e/show/525/
END:VEVENT
BEGIN:VEVENT
UID:realraum Grid Calendar-ba60f4c3f99b69e96569dcaa976cb7c3-637@grical.rea
 lraum.at
DTSTART:20150323T190000Z
CATEGORIES:realraum,hackaton,monthly,infrastructure,basteln
CLASS:PUBLIC
DESCRIPTION:Monatliches Treffen zum gemeinsamen Basteln an der realraum In
 frastruktur\, damit endlich was weiter geht.\nAll die Dinge auf der ToDo-L
 iste\, die man zusammen gleich amal erledigen könnt.\nAll das Zeug\, dass
  "ma eh schnell" erledigen kann bzw "hamma glei" :-)\n\nIdeen:\n\n- Auslag
 e\n- Monitore im Keller\n- Vorhang\n- http://xkcd.com/1473/ für die realr
 aum webseite\n- realraum start page\n- hledger for realraum\n\nKonkrete TO
 DOs:\n\n- brockmanngassetodo_\n- offenebaustellen_\n\nFür jeden offen\, w
 ie alle Treffen und Veranstaltungen des realraum.\n\n\n.. _offenebaustelle
 n: http://realraum.at/wiki/doku.php?id=intern:offenebaustellen\n.. _brockm
 anngassetodo: http://realraum.at/wiki/doku.php?id=brockmanngassetodo
DTSTAMP:20150526T003615
GEO:47.0655764023\;15.4505753517
LOCATION:Brockmanngasse 15\, 8010 Graz
SUMMARY:Ahhh\, das hamma glei - Treffen
URL:http://grical.realraum.at/e/show/637/
END:VEVENT
BEGIN:VEVENT
UID:realraum Grid Calendar-ba60f4c3f99b69e96569dcaa976cb7c3-638@grical.rea
 lraum.at
DTSTART:20150622T180000Z
CATEGORIES:realraum,hackaton,monthly,infrastructure,basteln
CLASS:PUBLIC
DESCRIPTION:Monatliches Treffen zum gemeinsamen Basteln an der realraum In
 frastruktur\, damit endlich was weiter geht.\nAll die Dinge auf der ToDo-L
 iste\, die man zusammen gleich amal erledigen könnt.\nAll das Zeug\, dass
  "ma eh schnell" erledigen kann bzw "hamma glei" :-)\n\nIdeen:\n\n- Auslag
 e\n- Monitore im Keller\n- Vorhang\n- http://xkcd.com/1473/ für die realr
 aum webseite\n- realraum start page\n- hledger for realraum\n\nKonkrete TO
 DOs:\n\n- brockmanngassetodo_\n- offenebaustellen_\n\nFür jeden offen\, w
 ie alle Treffen und Veranstaltungen des realraum.\n\n\n.. _offenebaustelle
 n: http://realraum.at/wiki/doku.php?id=intern:offenebaustellen\n.. _brockm
 anngassetodo: http://realraum.at/wiki/doku.php?id=brockmanngassetodo
DTSTAMP:20150526T003615
GEO:47.0655764023\;15.4505753517
LOCATION:Brockmanngasse 15\, 8010 Graz
SUMMARY:Ahhh\, das hamma glei - Treffen
URL:http://grical.realraum.at/e/show/638/
END:VEVENT
BEGIN:VEVENT
UID:realraum Grid Calendar-ba60f4c3f99b69e96569dcaa976cb7c3-639@grical.rea
 lraum.at
DTSTART:20150824T190000Z
CATEGORIES:realraum,hackaton,monthly,infrastructure,basteln
CLASS:PUBLIC
DESCRIPTION:Monatliches Treffen zum gemeinsamen Basteln an der realraum In
 frastruktur\, damit endlich was weiter geht.\nAll die Dinge auf der ToDo-L
 iste\, die man zusammen gleich amal erledigen könnt.\nAll das Zeug\, dass
  "ma eh schnell" erledigen kann bzw "hamma glei" :-)\n\nIdeen:\n\n- Auslag
 e\n- Monitore im Keller\n- Vorhang\n- http://xkcd.com/1473/ für die realr
 aum webseite\n- realraum start page\n- hledger for realraum\n\nKonkrete TO
 DOs:\n\n- brockmanngassetodo_\n- offenebaustellen_\n\nFür jeden offen\, w
 ie alle Treffen und Veranstaltungen des realraum.\n\n\n.. _offenebaustelle
 n: http://realraum.at/wiki/doku.php?id=intern:offenebaustellen\n.. _brockm
 anngassetodo: http://realraum.at/wiki/doku.php?id=brockmanngassetodo
DTSTAMP:20150820T214417
GEO:47.0655764023\;15.4505753517
LOCATION:Brockmanngasse 15\, 8010 Graz
SUMMARY:Ahhh\, das hamma glei - Treffen
URL:http://grical.realraum.at/e/show/639/
END:VEVENT
BEGIN:VEVENT
UID:realraum Grid Calendar-ba60f4c3f99b69e96569dcaa976cb7c3-640@grical.rea
 lraum.at
DTSTART:20151123T190000Z
CATEGORIES:realraum,hackaton,monthly,infrastructure,basteln
CLASS:PUBLIC
DESCRIPTION:Monatliches Treffen zum gemeinsamen Basteln an der realraum In
 frastruktur\, damit endlich was weiter geht.\nAll die Dinge auf der ToDo-L
 iste\, die man zusammen gleich amal erledigen könnt.\nAll das Zeug\, dass
  "ma eh schnell" erledigen kann bzw "hamma glei" :-)\n\nIdeen:\n\n- Auslag
 e\n- Monitore im Keller\n- Vorhang\n- http://xkcd.com/1473/ für die realr
 aum webseite\n- realraum start page\n- hledger for realraum\n\nKonkrete TO
 DOs:\n\n- brockmanngassetodo_\n- offenebaustellen_\n\nFür jeden offen\, w
 ie alle Treffen und Veranstaltungen des realraum.\n\n\n.. _offenebaustelle
 n: http://realraum.at/wiki/doku.php?id=intern:offenebaustellen\n.. _brockm
 anngassetodo: http://realraum.at/wiki/doku.php?id=brockmanngassetodo
DTSTAMP:20150526T003616
GEO:47.0655764023\;15.4505753517
LOCATION:Brockmanngasse 15\, 8010 Graz
SUMMARY:Ahhh\, das hamma glei - Treffen
URL:http://grical.realraum.at/e/show/640/
END:VEVENT
BEGIN:VEVENT
UID:realraum Grid Calendar-ba60f4c3f99b69e96569dcaa976cb7c3-641@grical.rea
 lraum.at
DTSTART:20151228T190000Z
CATEGORIES:realraum,hackaton,monthly,infrastructure,basteln
CLASS:PUBLIC
DESCRIPTION:Monatliches Treffen zum gemeinsamen Basteln an der realraum In
 frastruktur\, damit endlich was weiter geht.\nAll die Dinge auf der ToDo-L
 iste\, die man zusammen gleich amal erledigen könnt.\nAll das Zeug\, dass
  "ma eh schnell" erledigen kann bzw "hamma glei" :-)\n\nIdeen:\n\n- Auslag
 e\n- Monitore im Keller\n- Vorhang\n- http://xkcd.com/1473/ für die realr
 aum webseite\n- realraum start page\n- hledger for realraum\n\nKonkrete TO
 DOs:\n\n- brockmanngassetodo_\n- offenebaustellen_\n\nFür jeden offen\, w
 ie alle Treffen und Veranstaltungen des realraum.\n\n\n.. _offenebaustelle
 n: http://realraum.at/wiki/doku.php?id=intern:offenebaustellen\n.. _brockm
 anngassetodo: http://realraum.at/wiki/doku.php?id=brockmanngassetodo
DTSTAMP:20150526T003616
GEO:47.0655764023\;15.4505753517
LOCATION:Brockmanngasse 15\, 8010 Graz
SUMMARY:Ahhh\, das hamma glei - Treffen
URL:http://grical.realraum.at/e/show/641/
END:VEVENT
BEGIN:VEVENT
UID:realraum Grid Calendar-ba60f4c3f99b69e96569dcaa976cb7c3-642@grical.rea
 lraum.at
DTSTART:20160125T190000Z
CATEGORIES:realraum,hackaton,monthly,infrastructure,basteln
CLASS:PUBLIC
DESCRIPTION:Monatliches Treffen zum gemeinsamen Basteln an der realraum In
 frastruktur\, damit endlich was weiter geht.\nAll die Dinge auf der ToDo-L
 iste\, die man zusammen gleich amal erledigen könnt.\nAll das Zeug\, dass
  "ma eh schnell" erledigen kann bzw "hamma glei" :-)\n\nIdeen:\n\n- Auslag
 e\n- Monitore im Keller\n- Vorhang\n- http://xkcd.com/1473/ für die realr
 aum webseite\n- realraum start page\n- hledger for realraum\n\nKonkrete TO
 DOs:\n\n- brockmanngassetodo_\n- offenebaustellen_\n\nFür jeden offen\, w
 ie alle Treffen und Veranstaltungen des realraum.\n\n\n.. _offenebaustelle
 n: http://realraum.at/wiki/doku.php?id=intern:offenebaustellen\n.. _brockm
 anngassetodo: http://realraum.at/wiki/doku.php?id=brockmanngassetodo
DTSTAMP:20150526T003616
GEO:47.0655764023\;15.4505753517
LOCATION:Brockmanngasse 15\, 8010 Graz
SUMMARY:Ahhh\, das hamma glei - Treffen
URL:http://grical.realraum.at/e/show/642/
END:VEVENT
END:VCALENDAR
